BEGIN:VCALENDAR
VERSION:2.0
PRODID:-//chikkutakku.com//RDFCal 1.0//EN
X-WR-CALDESC:GoogleカレンダーやiCalendar形式情報を共有シェ
 アしましょう。近所のイベントから全国のイベントま
 で今日のイベント検索やスケジュールを決めるならち
 っくたっく
X-WR-CALNAME:ちっくたっく
X-WR-TIMEZONE:UTC
BEGIN:VEVENT
SUMMARY:(เลื่อน) ประชุมคณะทำงานด
 ้านการบริหารอัตรากำลัง คร
 ั้งที่ 4/2569
DTSTART;VALUE=DATE-TIME:20260424T020000Z
DTEND;VALUE=DATE-TIME:20260424T040000Z
UID:157783516907
DESCRIPTION:เรียน รองอธิการบดีฝ่า
 ยวิชาการและการเรียนรู้\nฝ่
 ายยุทธศาสตร์และพัฒนาคุณภ
 าพองค์กร ขอเชิญประชุมคณะท
 ำงานด้านการบริหารอัตรากำ
 ลัง ครั้งที่ 4/2569 ในวันศุกร์
 ที่ 24 เมษายน พ.ศ. 2569 เวลา 09.00-11.00 น
 .ณ ห้องประชุม\n18209 ชั้น 2 อาคาร 
 50 ปี มหาวิทยาลัยทักษิณ วิทย
 าเขตสงขลา และผ่านสื่ออิเล
 ็กทรอนิกส์ โปรแกรม Microsoft Teams\nใ
 นวันเวลาดังกล่าวตามปฏิทิ
 น ท่านรองฯ ยังไม่มีภารกิจอ
 ื่นใด\nจึงเรียนมาเพื่อโปรด
 ทราบและพิจารณา\n***เข้าร่วม \
 n\nจิตรา ลงเมื่อ 21-04-69\n\n(เลื่อน
 ประชุม ด้วยมีวาระประชุม 2 ว
 าระ วาระจำนวนน้อย\nเลขาแจ้
 งเมื่อ 23-04-69 เวลา 16.56 น.)
LOCATION:18209
END:VEVENT
END:VCALENDAR
