BEGIN:VCALENDAR
VERSION:2.0
PRODID:-//chikkutakku.com//RDFCal 1.0//EN
X-WR-CALDESC:GoogleカレンダーやiCalendar形式情報を共有シェ
 アしましょう。近所のイベントから全国のイベントま
 で今日のイベント検索やスケジュールを決めるならち
 っくたっく
X-WR-CALNAME:ちっくたっく
X-WR-TIMEZONE:UTC
BEGIN:VEVENT
SUMMARY:テンガ転生　－おねショタエルフと過ごす倫理不
 要の異世界ライフ－　３巻
DTSTART;VALUE=DATE:20260521
DTEND;VALUE=DATE:20260522
UID:158549038382
DESCRIPTION:2026-05-22テンガ転生　－おねショタエルフと過
 ごす倫理不要の異世界ライフ－　３巻大見武士少年画
 報社
LOCATION:
END:VEVENT
END:VCALENDAR
