BEGIN:VCALENDAR
VERSION:2.0
PRODID:-//chikkutakku.com//RDFCal 1.0//EN
X-WR-CALDESC:GoogleカレンダーやiCalendar形式情報を共有シェ
 アしましょう。近所のイベントから全国のイベントま
 で今日のイベント検索やスケジュールを決めるならち
 っくたっく
X-WR-CALNAME:ちっくたっく
X-WR-TIMEZONE:UTC
BEGIN:VEVENT
SUMMARY:七年級海報設計比賽(07:30~09:05，每班2位)
DTSTART;VALUE=DATE-TIME:20260514T233000Z
DTEND;VALUE=DATE-TIME:20260515T010500Z
UID:158668260341
DESCRIPTION:七年級海報設計比賽(07:30~09:05，每班2位)
LOCATION:
END:VEVENT
END:VCALENDAR
