BEGIN:VCALENDAR
VERSION:2.0
PRODID:-//chikkutakku.com//RDFCal 1.0//EN
X-WR-CALDESC:GoogleカレンダーやiCalendar形式情報を共有シェ
 アしましょう。近所のイベントから全国のイベントま
 で今日のイベント検索やスケジュールを決めるならち
 っくたっく
X-WR-CALNAME:ちっくたっく
X-WR-TIMEZONE:UTC
BEGIN:VEVENT
SUMMARY:13:00MyDresscode
DTSTART;VALUE=DATE:20260424
DTEND;VALUE=DATE:20260425
UID:158887431844
DESCRIPTION:MyDresscode（@_MyDresscode_）「正しいワタシの口説
 き方」リリースイベントを開催‼️当日11:30から地下2
 階ヨドバシホール
LOCATION:
END:VEVENT
END:VCALENDAR
