BEGIN:VCALENDAR
VERSION:2.0
PRODID:-//chikkutakku.com//RDFCal 1.0//EN
X-WR-CALDESC:GoogleカレンダーやiCalendar形式情報を共有シェ
 アしましょう。近所のイベントから全国のイベントま
 で今日のイベント検索やスケジュールを決めるならち
 っくたっく
X-WR-CALNAME:ちっくたっく
X-WR-TIMEZONE:UTC
BEGIN:VEVENT
SUMMARY:【注】29歳独身中堅冒険者の日常 #1 出会った、独
 身と幼女 / #2 リルイの才能 / #3 リルイとアニャンゴ / #4
  初恋の行方 / #5 孵化したものは / #6 決戦！迷宮攻略(ダ
 ンジョンアタック) / #7 リルイとコッコ / #8 村の一員 / #
 9 戦い明けて / #10 散髪と選択 / #11 魅了の力 / #12 故郷と
 仲間
DTSTART;VALUE=DATE-TIME:20260422T110000Z
DTEND;VALUE=DATE-TIME:20260422T170000Z
UID:159405602796
DESCRIPTION: / #1 出会った、独身と幼女 / #2 リルイの才能 /
  #3 リルイとアニャンゴ / #4 初恋の行方 / #5 孵化したも
 のは / #6 決戦！迷宮攻略(ダンジョンアタック) / #7 リル
 イとコッコ / #8 村の一員 / #9 戦い明けて / #10 散髪と選
 択 / #11 魅了の力 / #12 故郷と仲間 / https://abema.tv/channels/i
 sekai-anime/slots/AkN7aMVd6Eyugj リピート放送は 26:00～ https://ab
 ema.tv/channels/isekai-anime/slots/AkN7W6gTZ2BD43 、4/23(木) 14:00～ ht
 tps://abema.tv/channels/isekai-anime/slots/AkN7YEGkTgYNw9 (無料TS1週間
 )
LOCATION:異世界ファンタジー
END:VEVENT
END:VCALENDAR
