BEGIN:VCALENDAR
VERSION:2.0
PRODID:-//chikkutakku.com//RDFCal 1.0//EN
X-WR-CALDESC:GoogleカレンダーやiCalendar形式情報を共有シェ
 アしましょう。近所のイベントから全国のイベントま
 で今日のイベント検索やスケジュールを決めるならち
 っくたっく
X-WR-CALNAME:ちっくたっく
X-WR-TIMEZONE:UTC
BEGIN:VEVENT
SUMMARY:川崎純情小町☆ホームタウンライブ＠ゆめホール
DTSTART;VALUE=DATE:20260515
DTEND;VALUE=DATE:20260516
UID:159717358858
DESCRIPTION:午前帯\n詳細は後日更新
LOCATION:
END:VEVENT
END:VCALENDAR
