BEGIN:VCALENDAR
VERSION:2.0
PRODID:-//chikkutakku.com//RDFCal 1.0//EN
X-WR-CALDESC:GoogleカレンダーやiCalendar形式情報を共有シェ
 アしましょう。近所のイベントから全国のイベントま
 で今日のイベント検索やスケジュールを決めるならち
 っくたっく
X-WR-CALNAME:ちっくたっく
X-WR-TIMEZONE:UTC
BEGIN:VEVENT
SUMMARY:東京国際音楽@蒲田アプリコ
DTSTART;VALUE=DATE:20260503
DTEND;VALUE=DATE:20260504
UID:159846874815
DESCRIPTION:※久野新一さんからのメッセージ\nみなさん是
 非お越しください\n連休中になりますが、例年通り5月2
 日より3日間に渡り東京国際音楽祭をアプリコ（蒲田）
 で開催いたします。\n5月4日の特別公演には、地元ミュ
 ージシャンであるくわまんに出演をお願いし、大田区
 の地域振興のためにご出演を快諾して頂きました。メ
 ンバーは桑野信義(Tr & Hora & Vo)、岩見和彦(Gt)、井上イノ
 ヤン尚彦(Dr)、庵原良司(Sax)、羽仁知治(Key)、木村和夫(Ba
 s)\n\n当別公演は、スインギー奥田とブルースカイオー
 ケストラが日本の代表的なシンガーやミュージッシャ
 ンと共演し、楽しいプログラムで音楽をお届け致しま
 す。\n\nhttps://timf.jp/\n\n3日間の公演には共通パスポート
 が準備されております。（特別公演へのご入場には別
 料金を少しお願い致しております。）ブラスバンド、
 エイサー、サンバ、和太鼓、沖縄芸能、ジャズ等など
 沢山の音楽で皆様をお待ちいたしております。\n---------
 ----------\n\n⭐️チケットのお申し込みは、久野新一氏へ
 ⭐️\n\n久野新一 氏のメッセンジャー又は \ns-hisano@nifty.
 comへご連絡を下さい\n前方の良いお席を押さえてありま
 す！
LOCATION:大田区民ホール・アプリコ\, 日本、〒144-0052 東
 京都大田区蒲田５丁目３７−３
END:VEVENT
END:VCALENDAR
