BEGIN:VCALENDAR
VERSION:2.0
PRODID:-//chikkutakku.com//RDFCal 1.0//EN
X-WR-CALDESC:GoogleカレンダーやiCalendar形式情報を共有シェ
 アしましょう。近所のイベントから全国のイベントま
 で今日のイベント検索やスケジュールを決めるならち
 っくたっく
X-WR-CALNAME:ちっくたっく
X-WR-TIMEZONE:UTC
BEGIN:VEVENT
SUMMARY:【注】とんがり帽子のアトリエ #1 はじまりの魔
 法 / #2 草原の学び舎 / #3 ダダ山脈の試験 / #4 カルンで
 の出会い
DTSTART;VALUE=DATE-TIME:20260421T113000Z
DTEND;VALUE=DATE-TIME:20260421T133000Z
UID:159957993964
DESCRIPTION: / #1 はじまりの魔法 / #2 草原の学び舎 / #3 ダ
 ダ山脈の試験 / #4 カルンでの出会い / https://abema.tv/channe
 ls/abema-anime/slots/Ah77kp8jFj1wmH ※無料TS、リピート放送なし
  https://x.com/Anime_ABEMA/status/2046197353124938028
LOCATION:Abemaアニメ
END:VEVENT
END:VCALENDAR
