BEGIN:VCALENDAR
VERSION:2.0
PRODID:-//chikkutakku.com//RDFCal 1.0//EN
X-WR-CALDESC:GoogleカレンダーやiCalendar形式情報を共有シェ
 アしましょう。近所のイベントから全国のイベントま
 で今日のイベント検索やスケジュールを決めるならち
 っくたっく
X-WR-CALNAME:ちっくたっく
X-WR-TIMEZONE:UTC
BEGIN:VEVENT
SUMMARY:【定期開催】ビーチBARイベント　Barbana　
DTSTART;VALUE=DATE-TIME:20260420T113000Z
DTEND;VALUE=DATE-TIME:20260420T123000Z
UID:160225779546
DESCRIPTION:【イベント主催者】\n　Duck_Tanaka\n【イベント
 内容】\n　海辺で語らうビーチBAR、バルバーナ定期開店
 となります！\n水着をお持ちの方もそうでない方ものん
 びりした海辺での語らいにお越しくださいませ～！\n【
 イベントジャンル】\n　その他交流会\, VR飲み会\, 店舗
 系イベント\, 初心者向けイベント\, 定期イベント\n【参
 加条件（モデル、人数制限など）】\n　版権アバター、
 視界ジャック等の過度なパーティクル使用はご遠慮く
 ださい。\n水着ウェルカムですが必須ではありません！
 \n【参加方法】\n　主催者にフレンド送ってから参加、
 もしくはグループ名Barbana(BRBANA.1887)に参加の上でvrc内か
 らご参加下さい！\n【備考】\n　
LOCATION:
END:VEVENT
END:VCALENDAR
