BEGIN:VCALENDAR
VERSION:2.0
PRODID:-//chikkutakku.com//RDFCal 1.0//EN
X-WR-CALDESC:GoogleカレンダーやiCalendar形式情報を共有シェ
 アしましょう。近所のイベントから全国のイベントま
 で今日のイベント検索やスケジュールを決めるならち
 っくたっく
X-WR-CALNAME:ちっくたっく
X-WR-TIMEZONE:UTC
BEGIN:VEVENT
SUMMARY:St. Polycrates of Ephesus
DTSTART;VALUE=DATE-TIME:20260522T183000Z
DTEND;VALUE=DATE-TIME:20260523T183000Z
UID:160939054408
DESCRIPTION:St. Polycrates of Ephesus
LOCATION:
END:VEVENT
END:VCALENDAR
