BEGIN:VCALENDAR
VERSION:2.0
PRODID:-//chikkutakku.com//RDFCal 1.0//EN
X-WR-CALDESC:GoogleカレンダーやiCalendar形式情報を共有シェ
 アしましょう。近所のイベントから全国のイベントま
 で今日のイベント検索やスケジュールを決めるならち
 っくたっく
X-WR-CALNAME:ちっくたっく
X-WR-TIMEZONE:UTC
BEGIN:VEVENT
SUMMARY:【初心者歓迎】雑談系カフェCafe Hive 
DTSTART;VALUE=DATE-TIME:20260422T130000Z
DTEND;VALUE=DATE-TIME:20260422T140000Z
UID:161506331208
DESCRIPTION:【イベント主催者】\n　無茶おじ\n【イベント
 内容】\n　雑談メインのカフェで色んな店員さんとお話
 ができる25分×2ローテ式のイベントです\n【イベントジ
 ャンル】\n　店舗系イベント\, 初心者向けイベント\n【
 参加条件（モデル、人数制限など）】\n　できるだけ人
 型のアバターでお越しください、NSFWや違法なアバター
 でのご来店はお断りします\n【参加方法】\n　グループ
 【Cafe Hive】に加入し、開催時刻になりましたらグルー
 プインスタンスにjoinをお願いします。\n【備考】\n　当
 店は相席が可能なのでお友達と一緒に来るのもおすす
 めですっ
LOCATION:
END:VEVENT
END:VCALENDAR
