BEGIN:VCALENDAR
VERSION:2.0
PRODID:-//chikkutakku.com//RDFCal 1.0//EN
X-WR-CALDESC:GoogleカレンダーやiCalendar形式情報を共有シェ
 アしましょう。近所のイベントから全国のイベントま
 で今日のイベント検索やスケジュールを決めるならち
 っくたっく
X-WR-CALNAME:ちっくたっく
X-WR-TIMEZONE:UTC
BEGIN:VEVENT
SUMMARY:ぼんたん激動編 姫武将まさむね参る！！
DTSTART;VALUE=DATE:20260524
DTEND;VALUE=DATE:20260525
UID:161675009534
DESCRIPTION:2026-05-25ぼんたん激動編 姫武将まさむね参る！
 ！阿部川キネコ/はしもとまさえGakken
LOCATION:
END:VEVENT
END:VCALENDAR
