BEGIN:VCALENDAR
VERSION:2.0
PRODID:-//chikkutakku.com//RDFCal 1.0//EN
X-WR-CALDESC:GoogleカレンダーやiCalendar形式情報を共有シェ
 アしましょう。近所のイベントから全国のイベントま
 で今日のイベント検索やスケジュールを決めるならち
 っくたっく
X-WR-CALNAME:ちっくたっく
X-WR-TIMEZONE:UTC
BEGIN:VEVENT
SUMMARY:🌳山田の森ぐらし（パルパーク）🌳
DTSTART;VALUE=DATE-TIME:20260425T040000Z
DTEND;VALUE=DATE-TIME:20260425T070000Z
UID:161811409193
DESCRIPTION:【山田の森ぐらし（パルパーク）】4月～12月
 の全8回開催（※8月は除く）山田の森ぐらしとは「森と
 人のくらし」をテーマに、山田緑地の自然から得られ
 る素材を使った様々な自然体験活動を通じて、人と自
 然のつながりを体感し、自然の中で生きていく知恵を
 育む講座です。毎月様々な内容で活動を行います。（
 詳細は山田緑地ホームページをご覧ください）日時：20
 26年4月25日（土） 13：00～16：00予定場所：山田緑地 焚
 火の学び場などテーマ「ヨモギ蒸しパン、ヨモギハン
 ドクリームづくり」対象：山田の森ぐらし当選者（事
 前にネットから申込みが必要です）申込み：2026年3/18(
 水)～3/31(火)にネットから抽選で受付を行います申込先
 ：山田緑地ホームページ「山田の森ぐらしページ」を
 ご覧ください
LOCATION:北九州市立山田緑地\, 日本、〒803-0865 福岡県北
 九州市小倉北区山田町
END:VEVENT
END:VCALENDAR
