BEGIN:VCALENDAR
VERSION:2.0
PRODID:-//chikkutakku.com//RDFCal 1.0//EN
X-WR-CALDESC:GoogleカレンダーやiCalendar形式情報を共有シェ
 アしましょう。近所のイベントから全国のイベントま
 で今日のイベント検索やスケジュールを決めるならち
 っくたっく
X-WR-CALNAME:ちっくたっく
X-WR-TIMEZONE:UTC
BEGIN:VEVENT
SUMMARY:錬金術師のハンドメイド２　～フリマやってるだ
 けなのに伝説的な扱いされてました～
DTSTART;VALUE=DATE:20260429
DTEND;VALUE=DATE:20260430
UID:163166833029
DESCRIPTION:2026-04-30錬金術師のハンドメイド２　～フリマ
 やってるだけなのに伝説的な扱いされてました～和ふ
 ー/TOBIKADOKAWA
LOCATION:
END:VEVENT
END:VCALENDAR
