BEGIN:VCALENDAR
VERSION:2.0
PRODID:-//chikkutakku.com//RDFCal 1.0//EN
X-WR-CALDESC:GoogleカレンダーやiCalendar形式情報を共有シェ
 アしましょう。近所のイベントから全国のイベントま
 で今日のイベント検索やスケジュールを決めるならち
 っくたっく
X-WR-CALNAME:ちっくたっく
X-WR-TIMEZONE:UTC
BEGIN:VEVENT
SUMMARY:主催：恵比寿："KASSEN"
DTSTART;VALUE=DATE:20260519
DTEND;VALUE=DATE:20260520
UID:163391835889
DESCRIPTION:🔥開催決定🔥\nNEO JAPONISM主催公演\n"KASSEN"\n\n
 ●5/20(水)\n●LIQUIDROOM\n●18:00/18:30\n\n🎫チケット🎫\n(~5/7
  23:59先行抽選受付)\nhttps://t-dv.com/kassen-2026-05-20\n\nJamsColle
 ctionさん、タイトル未定さん、AOAOさんをお迎えしたKASSE
 N⚔️❤️‍🔥\n5月も激アツにしましょう🤝お待ちし
 ております！\n\n#ネオジャポ
LOCATION:
END:VEVENT
END:VCALENDAR
