BEGIN:VCALENDAR
VERSION:2.0
PRODID:-//chikkutakku.com//RDFCal 1.0//EN
X-WR-CALDESC:GoogleカレンダーやiCalendar形式情報を共有シェ
 アしましょう。近所のイベントから全国のイベントま
 で今日のイベント検索やスケジュールを決めるならち
 っくたっく
X-WR-CALNAME:ちっくたっく
X-WR-TIMEZONE:UTC
BEGIN:VEVENT
SUMMARY:スポーツヘルメット　(ジュニア用6個/ユースM2個/
 大人用6個）橋立自然公園/野口咲子
DTSTART;VALUE=DATE-TIME:20260502T020000Z
DTEND;VALUE=DATE-TIME:20260507T060000Z
UID:163596911241
DESCRIPTION:使用日：5月5日終日【使用目的】　ツリークラ
 イミング体験会で使用します。
LOCATION:
END:VEVENT
END:VCALENDAR
