BEGIN:VCALENDAR
VERSION:2.0
PRODID:-//chikkutakku.com//RDFCal 1.0//EN
X-WR-CALDESC:GoogleカレンダーやiCalendar形式情報を共有シェ
 アしましょう。近所のイベントから全国のイベントま
 で今日のイベント検索やスケジュールを決めるならち
 っくたっく
X-WR-CALNAME:ちっくたっく
X-WR-TIMEZONE:UTC
BEGIN:VEVENT
SUMMARY:★ウチのどうぶつえん 5/1(金)12:45-12:55 ＮＨＫＥテ
 レ(全国放送)
DTSTART;VALUE=DATE-TIME:20260501T034500Z
DTEND;VALUE=DATE-TIME:20260501T035500Z
UID:164178295003
DESCRIPTION:★ウチのどうぶつえん\n5/1(金)12:45-12:55ＮＨＫ
 Ｅテレ(全国放送)\nペンギンの羽が　ゴソッとね\nジャ
 イアントパンダで知られていた和歌山の動物園から。
 実はペンギンの飼育数日本一で、繁殖にも数多く成功
 しています。羽がごそっと入れ替わる時期に取材しま
 した。\nhttps://www.web.nhk/tv/an/uchidou/
LOCATION:
END:VEVENT
END:VCALENDAR
