BEGIN:VCALENDAR
VERSION:2.0
PRODID:-//chikkutakku.com//RDFCal 1.0//EN
X-WR-CALDESC:GoogleカレンダーやiCalendar形式情報を共有シェ
 アしましょう。近所のイベントから全国のイベントま
 で今日のイベント検索やスケジュールを決めるならち
 っくたっく
X-WR-CALNAME:ちっくたっく
X-WR-TIMEZONE:UTC
BEGIN:VEVENT
SUMMARY:長沢蘆雪
DTSTART;VALUE=DATE:20260313
DTEND;VALUE=DATE:20260510
UID:164223387620
DESCRIPTION:open 10:00 / end 17:00\n【休館日】月曜日\n＝＝＝＝
 ＝＝＝＝＝＝＝＝＝＝＝＝＝\n18世紀後半の京都の画家
 、長沢蘆雪。当館ではこれまで様々な作品を紹介して
 きました。ファンタスティックで不思議な風景、かわ
 いい動物や子供。師の円山応挙に迫る凄腕の絵もあれ
 ば、その正反対のへそまがりで愉快な絵もあります。
 また、禅の世界や仏の教えのもとに生きた画家でもあ
 りました。この東京初となる蘆雪展では、色々な角度
 から魅力に迫ります。\n\n【関連/参考ページ】\nhttp://www
 .art.city.fuchu.tokyo.jp/ （府中市美術館）\nhttps://www.city.fuchu
 .tokyo.jp/art/tenrankai/kikakutenkaisai/2025_nagasawa_rosetsu.html （詳
 細）\nhttps://www.city.fuchu.tokyo.jp/art/tenrankai/kikakutenkaisai/2025
 _nagasawa_rosetsu.files/rosetsu-chirashi01.pdf （チラシ(PDF)）\nhttps
 ://www.city.fuchu.tokyo.jp/art/index.html （府中市美術館）
LOCATION:府中市美術館【関東】
END:VEVENT
END:VCALENDAR
