BEGIN:VCALENDAR
VERSION:2.0
PRODID:-//chikkutakku.com//RDFCal 1.0//EN
X-WR-CALDESC:GoogleカレンダーやiCalendar形式情報を共有シェ
 アしましょう。近所のイベントから全国のイベントま
 で今日のイベント検索やスケジュールを決めるならち
 っくたっく
X-WR-CALNAME:ちっくたっく
X-WR-TIMEZONE:UTC
BEGIN:VEVENT
SUMMARY:これからの部落解放史 論点と課題
DTSTART;VALUE=DATE:20260521
DTEND;VALUE=DATE:20260522
UID:164409432344
DESCRIPTION:2026-05-22これからの部落解放史 論点と課題寺木
  伸明/朝治 武/渡辺 俊雄/友永 健三/谷元 昭信解放出版
 社
LOCATION:
END:VEVENT
END:VCALENDAR
