BEGIN:VCALENDAR
VERSION:2.0
PRODID:-//chikkutakku.com//RDFCal 1.0//EN
X-WR-CALDESC:GoogleカレンダーやiCalendar形式情報を共有シェ
 アしましょう。近所のイベントから全国のイベントま
 で今日のイベント検索やスケジュールを決めるならち
 っくたっく
X-WR-CALNAME:ちっくたっく
X-WR-TIMEZONE:UTC
BEGIN:VEVENT
SUMMARY:セッションＤａｙ　大澤理央〈Vo〉を囲む会
DTSTART;VALUE=DATE:20260519
DTEND;VALUE=DATE:20260520
UID:164484258954
DESCRIPTION:Open：１8：３０　 Start：１９：３０ 参加費：2
 000円 ＋1drink＋1Food＋〈税10%〉人気ボサノバ歌手大澤理
 央さんとブラジル音楽を一緒に演奏したい方どなたで
 も大歓迎！電子ピアノ、ドラム、ベース、ギターお店
 にあります。お店には ブラジル音楽に精通している店
 主（Tb\,Cl\,Pf\,Bs\,Perc）息子（Drs\,Pf\,A.Sax）がいつもおり
 ますので、ホストの方を交えてどなたでも楽しくブラ
 ジル音楽を演奏できます。仕事帰りにお気軽にいらし
 てください。※こちらにも沢山譜面は用意してありま
 すが、ご自身で演奏したい曲がありましたら譜面を5部
 ほどお持ちください。お名前・電話番号・人数 を添え
 てお申し込みください。ご予約 – Espaço Brasil〈エスパ
 ッソ・ブラジル〉 (espacobrasiljp.com)
LOCATION:
END:VEVENT
END:VCALENDAR
