BEGIN:VCALENDAR
VERSION:2.0
PRODID:-//chikkutakku.com//RDFCal 1.0//EN
X-WR-CALDESC:GoogleカレンダーやiCalendar形式情報を共有シェ
 アしましょう。近所のイベントから全国のイベントま
 で今日のイベント検索やスケジュールを決めるならち
 っくたっく
X-WR-CALNAME:ちっくたっく
X-WR-TIMEZONE:UTC
BEGIN:VEVENT
SUMMARY:姫騎士は蛮族の嫁 #3 「偽善は騎士の華」
DTSTART;VALUE=DATE-TIME:20260423T133000Z
DTEND;VALUE=DATE-TIME:20260423T140000Z
UID:164524354044
DESCRIPTION:3 / 偽善は騎士の華 / 
LOCATION:Abemaアニメ
END:VEVENT
END:VCALENDAR
