BEGIN:VCALENDAR
VERSION:2.0
PRODID:-//chikkutakku.com//RDFCal 1.0//EN
X-WR-CALDESC:GoogleカレンダーやiCalendar形式情報を共有シェ
 アしましょう。近所のイベントから全国のイベントま
 で今日のイベント検索やスケジュールを決めるならち
 っくたっく
X-WR-CALNAME:ちっくたっく
X-WR-TIMEZONE:UTC
BEGIN:VEVENT
SUMMARY:「来年も花火をしようね」と君は言った。
DTSTART;VALUE=DATE:20260426
DTEND;VALUE=DATE:20260427
UID:164840736386
DESCRIPTION:2026-04-27「来年も花火をしようね」と君は言っ
 た。詩PHP研究所
LOCATION:
END:VEVENT
END:VCALENDAR
