BEGIN:VCALENDAR
VERSION:2.0
PRODID:-//chikkutakku.com//RDFCal 1.0//EN
X-WR-CALDESC:GoogleカレンダーやiCalendar形式情報を共有シェ
 アしましょう。近所のイベントから全国のイベントま
 で今日のイベント検索やスケジュールを決めるならち
 っくたっく
X-WR-CALNAME:ちっくたっく
X-WR-TIMEZONE:UTC
BEGIN:VEVENT
SUMMARY:パピヨンcafe
DTSTART;VALUE=DATE-TIME:20260521T140000Z
DTEND;VALUE=DATE-TIME:20260521T153000Z
UID:164986756187
DESCRIPTION:【イベント主催者】\n　ぽにき\n【イベント内
 容】\n　何も考えないでのんびりしゃべろう、がコンセ
 プトの人外が営業しているcafeです。 \nオリジナルカク
 テルが50以上のcafeよりbarな品数です! \n時折個性的なイ
 ベントを突発的に行っております。 \nキャストにオセ
 ロやダーツで勝利すると特別な事や特別なカクテルの
 提供があります! フッ軽な気持ちでご来店くださいませ
 。\n【イベントジャンル】\n　店舗系イベント\n【参加
 条件（モデル、人数制限など）】\n　50mb以下\n版権アバ
 ターはお断りしております\n【参加方法】\n　グループ+
 \n【備考】\n　詳しくはグループに記載\n分からないこ
 とは主催のX @VRCONIKI まで
LOCATION:
END:VEVENT
END:VCALENDAR
