BEGIN:VCALENDAR
VERSION:2.0
PRODID:-//chikkutakku.com//RDFCal 1.0//EN
X-WR-CALDESC:GoogleカレンダーやiCalendar形式情報を共有シェ
 アしましょう。近所のイベントから全国のイベントま
 で今日のイベント検索やスケジュールを決めるならち
 っくたっく
X-WR-CALNAME:ちっくたっく
X-WR-TIMEZONE:UTC
BEGIN:VEVENT
SUMMARY:(昼)野外無銭ライブ
DTSTART;VALUE=DATE:20260504
DTEND;VALUE=DATE:20260505
UID:165482403738
DESCRIPTION:12:00- 出演\n12:20- 並行物販(仮
LOCATION:中之島\, 日本、〒530-0005 大阪府大阪市北区中之
 島
END:VEVENT
END:VCALENDAR
