BEGIN:VCALENDAR
VERSION:2.0
PRODID:-//chikkutakku.com//RDFCal 1.0//EN
X-WR-CALDESC:GoogleカレンダーやiCalendar形式情報を共有シェ
 アしましょう。近所のイベントから全国のイベントま
 で今日のイベント検索やスケジュールを決めるならち
 っくたっく
X-WR-CALNAME:ちっくたっく
X-WR-TIMEZONE:UTC
BEGIN:VEVENT
SUMMARY:(14時)㐂三郎をきくかい？
DTSTART;VALUE=DATE:20260506
DTEND;VALUE=DATE:20260507
UID:165894675833
DESCRIPTION:出演：柳家㐂三郎 \n開場：13時半　開演：14時 
 \n料金：予約・当日1​500円 \nご予約はらくごカ​フェ
 まで　 \nrakugocafe@hotm​​ail.co.jp　 \n電話03-6268-9818　（
 平日12時～18時まで）
LOCATION:
END:VEVENT
END:VCALENDAR
