BEGIN:VCALENDAR
VERSION:2.0
PRODID:-//chikkutakku.com//RDFCal 1.0//EN
X-WR-CALDESC:GoogleカレンダーやiCalendar形式情報を共有シェ
 アしましょう。近所のイベントから全国のイベントま
 で今日のイベント検索やスケジュールを決めるならち
 っくたっく
X-WR-CALNAME:ちっくたっく
X-WR-TIMEZONE:UTC
BEGIN:VEVENT
SUMMARY:「タイからの天才ピアニスト、トンナム現る！」
  Tonnam Warit((Piano)
DTSTART;VALUE=DATE:20260516
DTEND;VALUE=DATE:20260517
UID:166055286776
DESCRIPTION:open 16:00 / start 17:00\n出演: \n梅津和時　(As Cl Bcl 
 Fl 他)\n太田恵資　(Vln)\n石原雄治　(Drs)\n料金:\n前売4\,000
 円\n当日4\,500円\n別途1Drink600円 \n055-233-2031 桜座\nメール
 にて予約受付中\n中学生\, 小学生無料！保護者同伴\n\n
 めちゃくちゃ久しぶりの桜座。\nTonnamとの日本ショート
 ツアー2日目。\nこの日はめちゃくちゃ久しぶりに太田
 恵資さんとの共演もあり、楽しみ！\n\n【関連/参考ペー
 ジ】\nhttp://www.sakuraza.jp/ （甲府桜座）
LOCATION:甲府桜座【関東】
END:VEVENT
END:VCALENDAR
