BEGIN:VCALENDAR
VERSION:2.0
PRODID:-//chikkutakku.com//RDFCal 1.0//EN
X-WR-CALDESC:GoogleカレンダーやiCalendar形式情報を共有シェ
 アしましょう。近所のイベントから全国のイベントま
 で今日のイベント検索やスケジュールを決めるならち
 っくたっく
X-WR-CALNAME:ちっくたっく
X-WR-TIMEZONE:UTC
BEGIN:VEVENT
SUMMARY:おすすめイベント「ザッハトルテ ライブ」
DTSTART;VALUE=DATE-TIME:20260526T090000Z
DTEND;VALUE=DATE-TIME:20260526T120000Z
UID:166168479242
DESCRIPTION:今年のザッハトルテ高知ライブは5月26日(火)か
 るぽーと小ホールにて開催！世界の音楽と料理を一度
 に楽しめる人気イベント「ワールドミュージックナイ
 ト」の第47弾として登場です。会場ロビーには世界の料
 理ブースが多数出店。ホール内で食べながらライブを
 楽しめます。（ライブだけ楽しみたい方は料理の購入
 は不要です。）ご予約どしどしお待ちしてます！（私
 のほうでもチケット取り扱っています）↓詳細はこち
 ら5月26日（火）「ザッハトルテ　高知ライブ（World Music
  Night vol.47）」場所：高知市文化プラザかるぽーと龍馬
 学園イベントホール（高知市九反田2-1）時間：開演19:00
 （開場18:00）料金：前売り4\,000円（当日4\,500円）
LOCATION:高知市文化プラザかるぽーと龍馬学園イベント
 ホール（高知市九反田2-1）
END:VEVENT
END:VCALENDAR
