BEGIN:VCALENDAR
VERSION:2.0
PRODID:-//chikkutakku.com//RDFCal 1.0//EN
X-WR-CALDESC:GoogleカレンダーやiCalendar形式情報を共有シェ
 アしましょう。近所のイベントから全国のイベントま
 で今日のイベント検索やスケジュールを決めるならち
 っくたっく
X-WR-CALNAME:ちっくたっく
X-WR-TIMEZONE:UTC
BEGIN:VEVENT
SUMMARY:生涯探索-校友會前會長賴雅婷財經桌遊體驗(903\\90
 5) 、台北城市科大餐飲或電機體驗(901、902、904)
DTSTART;VALUE=DATE-TIME:20260424T010300Z
DTEND;VALUE=DATE-TIME:20260424T020300Z
UID:166381861590
DESCRIPTION:       第1-2節：08：25-10：05    904    第3-4節：10
 ：15-11：55   901    第5-6節：13：05-14：45   902台北城市
 科大餐飲或電機體驗  第3-4節：10：15-11：55    903    第5-
 6節：13：05-14：45   905  校友會會長賴雅婷會長  使用教
 材類似大富翁遊戲    職業代表的收入與支出    理解工作
 收入與職業選擇有很大關係 
LOCATION:
END:VEVENT
END:VCALENDAR
