BEGIN:VCALENDAR
VERSION:2.0
PRODID:-//chikkutakku.com//RDFCal 1.0//EN
X-WR-CALDESC:GoogleカレンダーやiCalendar形式情報を共有シェ
 アしましょう。近所のイベントから全国のイベントま
 で今日のイベント検索やスケジュールを決めるならち
 っくたっく
X-WR-CALNAME:ちっくたっく
X-WR-TIMEZONE:UTC
BEGIN:VEVENT
SUMMARY:(รองไพฑูรย์)ประธานกล่าว
 เปิดการ อบรมพัฒนาศักยภาพผ
 ู้ประกอบการและเจ้าหน้าที
 ่ด้านผลิตภัณฑ์สุขภาพเครื
 ่องสำอาง ณ ห้องประชุมอาคาร
 ส่งเสริมสุขภาพ
DTSTART;VALUE=DATE-TIME:20260423T020000Z
DTEND;VALUE=DATE-TIME:20260423T030000Z
UID:166938766306
DESCRIPTION:(รองไพฑูรย์)ประธานกล่า
 วเปิดการ อบรมพัฒนาศักยภาพ
 ผู้ประกอบการและเจ้าหน้าท
 ี่ด้านผลิตภัณฑ์สุขภาพเคร
 ื่องสำอาง ณ ห้องประชุมอาคา
 รส่งเสริมสุขภาพ
LOCATION:
END:VEVENT
END:VCALENDAR
