BEGIN:VCALENDAR
VERSION:2.0
PRODID:-//chikkutakku.com//RDFCal 1.0//EN
X-WR-CALDESC:GoogleカレンダーやiCalendar形式情報を共有シェ
 アしましょう。近所のイベントから全国のイベントま
 で今日のイベント検索やスケジュールを決めるならち
 っくたっく
X-WR-CALNAME:ちっくたっく
X-WR-TIMEZONE:UTC
BEGIN:VEVENT
SUMMARY:【Android 対応】Cafe Libra
DTSTART;VALUE=DATE-TIME:20260421T120000Z
DTEND;VALUE=DATE-TIME:20260421T130000Z
UID:166957249572
DESCRIPTION:【イベント主催者】\n　結月-ゆずき-  、Nekuru77
 \n【イベント内容】\n　心のバランスを整える夜のchillCa
 fe。\n喋りたい人、作業の片手間、のんびりしたい方\n
 どんな方でも大丈夫です。\nお客様にとって幸せな時間
 が過ごせますように。\n【イベントジャンル】\n　店舗
 系イベント\, 初心者向けイベント\, 定期イベント\n【参
 加条件（モデル、人数制限など）】\n　・テクスチャ容
 量50MB以下の軽いアバターでのご来店。\n・勧誘、迷惑
 行為禁止 。\n・R18、武器、過度なパーティクル等があ
 るアバターの使用禁止 。\n ・原則配信や画面共有禁止 
 。\n・キャストへの許可のないフレンド申請、接触行為
 禁止。\n【参加方法】\n　グループ＋にJoin\n【備考】\n
 　グループはこちら:https://vrc.group/CAFELI.9635\nTwitter(現X)
 はこちら:https://x.com/VRC_CafeLibra\nVRChat内からの検索はこ
 ちら：「Cafe Libra」「CAFELI.9635」
LOCATION:
END:VEVENT
END:VCALENDAR
