BEGIN:VCALENDAR
VERSION:2.0
PRODID:-//chikkutakku.com//RDFCal 1.0//EN
X-WR-CALDESC:GoogleカレンダーやiCalendar形式情報を共有シェ
 アしましょう。近所のイベントから全国のイベントま
 で今日のイベント検索やスケジュールを決めるならち
 っくたっく
X-WR-CALNAME:ちっくたっく
X-WR-TIMEZONE:UTC
BEGIN:VEVENT
SUMMARY:【注】ザ☆ウルトラマン #1 新しいヒーローの誕
 生!! / #2 光るペンダントの秘密 / #3 草笛が夕日に流れる
 時… / #4 謎の赤い雲を追え!! / #5 パッセージャー号地底
 突破!! / #6 燃える深海への挑戦  / #7 攻撃指令 目標はピ
 グ!! / #8 ヒカリ隊員の秘密が盗まれた!? / #9 目覚めた古
 代生物の恐怖!! / #10 見えたぞ！まぼろしの怪獣が…
DTSTART;VALUE=DATE-TIME:20260419T190000Z
DTEND;VALUE=DATE-TIME:20260420T000000Z
UID:167188017633
DESCRIPTION: / #1 新しいヒーローの誕生!! / #2 光るペンダン
 トの秘密 / #3 草笛が夕日に流れる時… / #4 謎の赤い雲
 を追え!! / #5 パッセージャー号地底突破!! / #6 燃える深
 海への挑戦  / #7 攻撃指令 目標はピグ!! / #8 ヒカリ隊員
 の秘密が盗まれた!? / #9 目覚めた古代生物の恐怖!! / #10 
 見えたぞ！まぼろしの怪獣が… / ([[ファミリーアニメ2 
 https://abema.tv/timetable/channels/family-anime-2]]) https://abema.tv/cha
 nnels/family-anime-2/slots/EvABN7kaAzabPd リピート放送は 4/20(月) 
 13:30～ https://abema.tv/channels/family-anime-2/slots/Ah77ncw6MQ25h9 、
 4/20(月) 23:00～ https://abema.tv/channels/family-anime-2/slots/Ah77m7gD
 UawJD5 (無料TS1週間) https://prtimes.jp/main/html/rd/p/000002330.00006
 4643.html
LOCATION:ABEMA特設その他
END:VEVENT
END:VCALENDAR
