BEGIN:VCALENDAR
VERSION:2.0
PRODID:-//chikkutakku.com//RDFCal 1.0//EN
X-WR-CALDESC:GoogleカレンダーやiCalendar形式情報を共有シェ
 アしましょう。近所のイベントから全国のイベントま
 で今日のイベント検索やスケジュールを決めるならち
 っくたっく
X-WR-CALNAME:ちっくたっく
X-WR-TIMEZONE:UTC
BEGIN:VEVENT
SUMMARY: (14時)神田愛山　昼の茶会
DTSTART;VALUE=DATE:20260422
DTEND;VALUE=DATE:20260423
UID:167574807773
DESCRIPTION:出演：神田愛山\n開場​：13時​半　開演：14
 時　 \n料金：1ドリンク付・2000円 \n（お飲み物​は開演
 前とお仲入りの​際に提供いたします） \nご予約はら
 ​くごカ​フェまで \nrakugocaf​e@hotm​ail.co.jp　 \n電話03
 -6268-9818（​平日​12時～18時）
LOCATION:
END:VEVENT
END:VCALENDAR
