BEGIN:VCALENDAR
VERSION:2.0
PRODID:-//chikkutakku.com//RDFCal 1.0//EN
X-WR-CALDESC:GoogleカレンダーやiCalendar形式情報を共有シェ
 アしましょう。近所のイベントから全国のイベントま
 で今日のイベント検索やスケジュールを決めるならち
 っくたっく
X-WR-CALNAME:ちっくたっく
X-WR-TIMEZONE:UTC
BEGIN:VEVENT
SUMMARY:【特典】CASSETTE BOY（カセットボーイ）(【初回封
 入特典】カセットボーイおすわりラバーキーホルダー)
DTSTART;VALUE=DATE:20260429
DTEND;VALUE=DATE:20260430
UID:167672754120
DESCRIPTION:2026-04-30【特典】CASSETTE BOY（カセットボーイ）(
 【初回封入特典】カセットボーイおすわりラバーキー
 ホルダー)ワンダーランドカザキリ
LOCATION:
END:VEVENT
END:VCALENDAR
