BEGIN:VCALENDAR
VERSION:2.0
PRODID:-//chikkutakku.com//RDFCal 1.0//EN
X-WR-CALDESC:GoogleカレンダーやiCalendar形式情報を共有シェ
 アしましょう。近所のイベントから全国のイベントま
 で今日のイベント検索やスケジュールを決めるならち
 っくたっく
X-WR-CALNAME:ちっくたっく
X-WR-TIMEZONE:UTC
BEGIN:VEVENT
SUMMARY:NVP Thursday Morning Ride - Merriam's Corner NW
DTSTART;VALUE=DATE-TIME:20260423T140000Z
DTEND;VALUE=DATE-TIME:20260423T170000Z
UID:168200357521
DESCRIPTION:Start Location:  Meriam’s Corner parking lot\, Lexington S
 t\, ConcordLeader:  Kathy HorvathContact:  kathy.j.horvath@gmail.comLun
 ch:  Ask Kathy at the startRide Description: Two routes heading northwes
 t from Concord through Acton\, Westford\, Chelmsford\, and Carlisle.25 mil
 es (850 ft elevation) is core route with leader and human arrows at 13 mph
  average29 miles (1016 ft elevation) also available with a couple extra hi
 lls for those that want more of a work out.RwGPS link:  25 miles\, http
 s://ridewithgps.com/routes/46641369                        29 
 miles\, https://ridewithgps.com/routes/46641368
LOCATION:Meriam's Corner\, Concord\, MA 01742\, USA
END:VEVENT
END:VCALENDAR
