BEGIN:VCALENDAR
VERSION:2.0
PRODID:-//chikkutakku.com//RDFCal 1.0//EN
X-WR-CALDESC:GoogleカレンダーやiCalendar形式情報を共有シェ
 アしましょう。近所のイベントから全国のイベントま
 で今日のイベント検索やスケジュールを決めるならち
 っくたっく
X-WR-CALNAME:ちっくたっく
X-WR-TIMEZONE:UTC
BEGIN:VEVENT
SUMMARY:Live × Cast Event 「Virtual Rendez-Vous Lounge」
DTSTART;VALUE=DATE-TIME:20260422T130000Z
DTEND;VALUE=DATE-TIME:20260422T150000Z
UID:168488600880
DESCRIPTION:【イベント主催者】\n　ろぉぉぉ\n【イベント
 内容】\n　ライブ連携型キャスト接客イベント\n【イベ
 ントジャンル】\n　店舗系イベント\, 音楽系イベント\n
 【参加条件（モデル、人数制限など）】\n　\n【参加方
 法】\n　Group Only で開催。【 https://vrchat.com/home/group/grp_ca
 a913ad-cb06-411d-acdf-89345023464e 】\n【備考】\n　
LOCATION:
END:VEVENT
END:VCALENDAR
