BEGIN:VCALENDAR
VERSION:2.0
PRODID:-//chikkutakku.com//RDFCal 1.0//EN
X-WR-CALDESC:GoogleカレンダーやiCalendar形式情報を共有シェ
 アしましょう。近所のイベントから全国のイベントま
 で今日のイベント検索やスケジュールを決めるならち
 っくたっく
X-WR-CALNAME:ちっくたっく
X-WR-TIMEZONE:UTC
BEGIN:VEVENT
SUMMARY:【お酒＆歓談イベント】社交BarCaprice🥂
DTSTART;VALUE=DATE-TIME:20260422T140000Z
DTEND;VALUE=DATE-TIME:20260422T145900Z
UID:168602561660
DESCRIPTION:【イベント主催者】\n　Chigocoro\n【イベント内
 容】\n　お酒を嗜みながら、この社交場で楽しく飲みま
 せんか？\nCapriceとはフランス語で「気まぐれ」という
 意味です🐾\n気まぐれなキャストたちが皆さまをお待
 ちしております！\n※お酒が飲めない方でもOK!!\n【イベ
 ントジャンル】\n　その他交流会\, VR飲み会\, 店舗系イ
 ベント\, 初心者向けイベント\, 定期イベント\n【参加条
 件（モデル、人数制限など）】\n　常識の範囲内で、モ
 ラルのあるアバターでの参加をお願いします。\nインス
 タンス人数はその日の出勤キャスト数次第になります
 ！\n【参加方法】\n　Friendsでの開催になります。\n主催
 「Chigocoro」までフレンド申請後、時間になったらJoinし
 てください！\n【備考】\n　急な変更などは当イベントX
 （旧Twitter）にてお知らせしています。\nTwitter→@VRC_BarCa
 price
LOCATION:
END:VEVENT
END:VCALENDAR
