BEGIN:VCALENDAR
VERSION:2.0
PRODID:-//chikkutakku.com//RDFCal 1.0//EN
X-WR-CALDESC:GoogleカレンダーやiCalendar形式情報を共有シェ
 アしましょう。近所のイベントから全国のイベントま
 で今日のイベント検索やスケジュールを決めるならち
 っくたっく
X-WR-CALNAME:ちっくたっく
X-WR-TIMEZONE:UTC
BEGIN:VEVENT
SUMMARY:(นพ.สสจ/รอง นพ.สสจ/ผช.นพ.สส
 จ)ร่วมพิธีบำเพ็ญกุศสลฌาปน
 กิจศพ นายโชติ แก้วละมุล บิ
 ดา ผช.สสอ.ห้วยทับทัน ณ บ้านห
 นองบัวตาคง\nตำบลกู่ อำเภอป
 รางค์กู่
DTSTART;VALUE=DATE-TIME:20260423T120000Z
DTEND;VALUE=DATE-TIME:20260423T130000Z
UID:168629616144
DESCRIPTION:(นพ.สสจ/รอง นพ.สสจ/ผช.นพ.ส
 สจ)ร่วมพิธีบำเพ็ญกุศสลฌาป
 นกิจศพ นายโชติ แก้วละมุล บ
 ิดา ผช.สสอ.ห้วยทับทัน ณ บ้าน
 หนองบัวตาคง\nตำบลกู่ อำเภอ
 ปรางค์กู่
LOCATION:
END:VEVENT
END:VCALENDAR
