BEGIN:VCALENDAR
VERSION:2.0
PRODID:-//chikkutakku.com//RDFCal 1.0//EN
X-WR-CALDESC:GoogleカレンダーやiCalendar形式情報を共有シェ
 アしましょう。近所のイベントから全国のイベントま
 で今日のイベント検索やスケジュールを決めるならち
 っくたっく
X-WR-CALNAME:ちっくたっく
X-WR-TIMEZONE:UTC
BEGIN:VEVENT
SUMMARY:【Android 対応】Cafe 響【初見初心者歓迎】
DTSTART;VALUE=DATE-TIME:20260423T113000Z
DTEND;VALUE=DATE-TIME:20260423T123000Z
UID:169074574042
DESCRIPTION:【イベント主催者】\n　たまま！\n【イベント
 内容】\n　当店のイベントは、お客さん4人、ローテシ
 ョン方式になっており一回１5分間の3回交代となってお
 ります。フレンドを作りたい方や話したい方にお勧め
 です。\n【イベントジャンル】\n　その他交流会\, 店舗
 系イベント\, 初心者向けイベント\, 定期イベント\n【参
 加条件（モデル、人数制限など）】\n　極端に負荷のか
 かるアバター、R18に抵触するアバターでのご参加はご
 遠慮ください。\nまた、店内での抜刀･発砲や他の方に
 干渉してしまうギミックなどもご遠慮ください。\n【参
 加方法】\n　グループ参加後、時間になりましたらグル
 ープインスタンスにご入場ください。　\nグループid.HIB
 IKI.0468\n【備考】\n　相席居酒屋響 毎週金20˸30~21˸30\nBar
 響 第2\,第3水曜日21˸00~22˸00\nCafe響 第4木曜日20˸30~21˸30\n
 Exercise響｛不定期｝\nNightClub響｛不定期
LOCATION:
END:VEVENT
END:VCALENDAR
