BEGIN:VCALENDAR
VERSION:2.0
PRODID:-//chikkutakku.com//RDFCal 1.0//EN
X-WR-CALDESC:GoogleカレンダーやiCalendar形式情報を共有シェ
 アしましょう。近所のイベントから全国のイベントま
 で今日のイベント検索やスケジュールを決めるならち
 っくたっく
X-WR-CALNAME:ちっくたっく
X-WR-TIMEZONE:UTC
BEGIN:VEVENT
SUMMARY:暗夜鬼譚 細雪剣舞/凶剣凍夜
DTSTART;VALUE=DATE:20260520
DTEND;VALUE=DATE:20260521
UID:169339428734
DESCRIPTION:2026-05-21暗夜鬼譚 細雪剣舞/凶剣凍夜瀬川 貴次
 集英社
LOCATION:
END:VEVENT
END:VCALENDAR
