BEGIN:VCALENDAR
VERSION:2.0
PRODID:-//chikkutakku.com//RDFCal 1.0//EN
X-WR-CALDESC:GoogleカレンダーやiCalendar形式情報を共有シェ
 アしましょう。近所のイベントから全国のイベントま
 で今日のイベント検索やスケジュールを決めるならち
 っくたっく
X-WR-CALNAME:ちっくたっく
X-WR-TIMEZONE:UTC
BEGIN:VEVENT
SUMMARY:14:00ミュージックライブ
DTSTART;VALUE=DATE:20260424
DTEND;VALUE=DATE:20260425
UID:169601508130
DESCRIPTION:4月25日（土）つかしん20thアニバーサリーミュ
 ージックライブvol.2@兵庫 グンゼタウンセンターつかし
 ん#阪田マリン 出演 14:00-16:00 木山裕策・阪田マリン・
 中井優月
LOCATION:
END:VEVENT
END:VCALENDAR
