BEGIN:VCALENDAR
VERSION:2.0
PRODID:-//chikkutakku.com//RDFCal 1.0//EN
X-WR-CALDESC:GoogleカレンダーやiCalendar形式情報を共有シェ
 アしましょう。近所のイベントから全国のイベントま
 で今日のイベント検索やスケジュールを決めるならち
 っくたっく
X-WR-CALNAME:ちっくたっく
X-WR-TIMEZONE:UTC
BEGIN:VEVENT
SUMMARY:St. Daniel of Galash +439
DTSTART;VALUE=DATE-TIME:20260501T183000Z
DTEND;VALUE=DATE-TIME:20260502T183000Z
UID:169892070128
DESCRIPTION:In hagiography: Daniel of Galash (Aghlosh or Golosh) was a mar
 ried man who left his wife to become a monk. He met many ascetics in his l
 ife\, including Mari and Julien Saba. He visited the portrait of Christ in
  Edessa. He stayed in a cave with Mari\, and then he established a monaste
 ry on Mount Aysum. His son Lazarus became his disciple. He built a small m
 onastery in Rome for his father.\n\n\n\nRSoH
LOCATION:
END:VEVENT
END:VCALENDAR
