BEGIN:VCALENDAR
VERSION:2.0
PRODID:-//chikkutakku.com//RDFCal 1.0//EN
X-WR-CALDESC:GoogleカレンダーやiCalendar形式情報を共有シェ
 アしましょう。近所のイベントから全国のイベントま
 で今日のイベント検索やスケジュールを決めるならち
 っくたっく
X-WR-CALNAME:ちっくたっく
X-WR-TIMEZONE:UTC
BEGIN:VEVENT
SUMMARY:【Android 対応】VRChat BOATRACE (VBR) 初心者講習会
DTSTART;VALUE=DATE-TIME:20260422T120000Z
DTEND;VALUE=DATE-TIME:20260422T140000Z
UID:169959639561
DESCRIPTION:【イベント主催者】\n　yosimo\n【イベント内容
 】\n　VRChatでボートレースしてみませんか？ \n\n VRChat BO
 AT RACE（以下VBR）では随時初心者さんを募集しています
 。\nBOAT RACEを知らない方や、VRChat初心者さんでも大歓迎
 です。\n\n  \n動かし方や競技としてのルールなど、走り
 慣れたVBRレーサーが丁寧に指導、解説します。  乗り物
 系が好きな方やレースなど他の人と競うのが好きな方
 にはおすすめだと思います。\n\nVBR初心者講習会にぜひ
 ご参加ください。\n\n\n【イベントジャンル】\n　その他
 交流会\n【参加条件（モデル、人数制限など）】\n　人
 数制限等は特に設けていません\n【参加方法】\n　事前
 にVRChat BOAT RACEグループ (https://vrc.group/VBR.5884) に参加の
 上Group+インスタンスにJoin、もしくは主催者にフレンド
 申請の上Joinをお願いします。\n\n\n【備考】\n　乗り物
 系でありボートのアセットを使用しているため、VR酔い
 にご注意ください。\n\n
LOCATION:
END:VEVENT
END:VCALENDAR
