BEGIN:VCALENDAR
VERSION:2.0
PRODID:-//chikkutakku.com//RDFCal 1.0//EN
X-WR-CALDESC:GoogleカレンダーやiCalendar形式情報を共有シェ
 アしましょう。近所のイベントから全国のイベントま
 で今日のイベント検索やスケジュールを決めるならち
 っくたっく
X-WR-CALNAME:ちっくたっく
X-WR-TIMEZONE:UTC
BEGIN:VEVENT
SUMMARY:【Android 対応】VRChat Music Share Meetings 誰かと好きな
 音楽を共有する集い
DTSTART;VALUE=DATE-TIME:20260423T120000Z
DTEND;VALUE=DATE-TIME:20260423T130000Z
UID:170145026498
DESCRIPTION:【イベント主催者】\n　　poposuke_sig\n【イベン
 ト内容】\n　　　イベント参加者が順番に好きな曲を動
 画プレイヤーで流して皆で聴くイベント\n\n【イベント
 ジャンル】\n　音楽系イベント\n【参加条件（モデル、
 人数制限など）】\n　　　特になし（常識の範囲で）\n\
 n【参加方法】\n　　グループ（https://vrc.group/VRCMSM.9217）
 に参加後グループインスタンスにJoin\nもしくは主催のpo
 posuke_sigにフレンド申請してJoin\n\n【備考】\n　　このイ
 ベントでは、流せる曲のジャンルに一切の制限があり
 ません。\n演歌や民謡、クラシック、オルタナティブロ
 ック、ワールドミュージックまで、\nあなたの“好きな
 音楽”なら何でも歓迎です。\n\nもちろん、リクエスト
 せず“聴くだけ”の参加も歓迎です。\n多彩な音楽が次
 々に流れていくので、\n誰かの「好き」が、あなたの新
 しいお気に入りになるかもしれません。\n気軽に入って
 、流れる音楽をそのまま楽しんでください。\n参加した
 ら、まず最初に一曲だけキューへリクエストしてくだ
 さい。\nその曲が再生されたら、次の曲を続けて追加で
 きます。\n曲は6分以内でお願いします。\n\nなお、参加
 人数によってリクエストできる回数は変わります。\n流
 したい曲が多い場合は、早めの参加をおすすめします
 。\n\n今まで流れた曲のプレイリストがグループのリン
 ク欄から見れます。\nどんな曲が流れたか聞いてみてく
 ださい。\n\n\n
LOCATION:
END:VEVENT
END:VCALENDAR
