BEGIN:VCALENDAR
VERSION:2.0
PRODID:-//chikkutakku.com//RDFCal 1.0//EN
X-WR-CALDESC:GoogleカレンダーやiCalendar形式情報を共有シェ
 アしましょう。近所のイベントから全国のイベントま
 で今日のイベント検索やスケジュールを決めるならち
 っくたっく
X-WR-CALNAME:ちっくたっく
X-WR-TIMEZONE:UTC
BEGIN:VEVENT
SUMMARY:風船の行方
DTSTART;VALUE=DATE-TIME:20260424T150000Z
DTEND;VALUE=DATE-TIME:20260425T150000Z
UID:170247881228
DESCRIPTION:自らプロデュース、脚本、編集、時には撮影
 などを手がけるスタイルで製作した作品がさまざまな
 映画祭で上映されている西安健監督が、2006年に発表し
 た短編映画。一組の母子を主人公に、揺れ動く感情の
 機微を繊細な演出で描いた人間ドラマ。\n\n夜のファミ
 リーレストランで、母の路子と娘の真奈が向かい合っ
 て座っている。日々の生活に追われながら娘を一人で
 育ててきた路子は、疲労と孤独を抱えていた。やがて
 その感情は真奈へと向けられ、衝動的に店を出てしま
 う。\n\n西安監督の短編3作品を同時上映する「『とうち
 ゃん』 『鰤の大晦日』 『風船の行方』 西安健短編特
 集」にて劇場公開。\n作品紹介ページ：https://eiga.com/movi
 e/105863/
LOCATION:
END:VEVENT
END:VCALENDAR
