BEGIN:VCALENDAR
VERSION:2.0
PRODID:-//chikkutakku.com//RDFCal 1.0//EN
X-WR-CALDESC:GoogleカレンダーやiCalendar形式情報を共有シェ
 アしましょう。近所のイベントから全国のイベントま
 で今日のイベント検索やスケジュールを決めるならち
 っくたっく
X-WR-CALNAME:ちっくたっく
X-WR-TIMEZONE:UTC
BEGIN:VEVENT
SUMMARY:【高雄】5/4 國際貿易資金活化術：境外公司OBU架
 構「合法」運用、節稅與CFC新法實戰 (線上+回放)
DTSTART;VALUE=DATE-TIME:20260503T160000Z
DTEND;VALUE=DATE-TIME:20260504T155959Z
UID:170389733024
DESCRIPTION:【高雄】5/4 國際貿易資金活化術：境外公司OBU
 架構「合法」運用、節稅與CFC新法實戰 (線上+回放)
LOCATION:
END:VEVENT
END:VCALENDAR
