BEGIN:VCALENDAR
VERSION:2.0
PRODID:-//chikkutakku.com//RDFCal 1.0//EN
X-WR-CALDESC:GoogleカレンダーやiCalendar形式情報を共有シェ
 アしましょう。近所のイベントから全国のイベントま
 で今日のイベント検索やスケジュールを決めるならち
 っくたっく
X-WR-CALNAME:ちっくたっく
X-WR-TIMEZONE:UTC
BEGIN:VEVENT
SUMMARY:パウ・パトロール(4) #296 「アクア パウ・パトロ
 ール！サンゴのたにをまもれ！／ジャンプジャンプ ス
 マイリー！」
DTSTART;VALUE=DATE-TIME:20260424T085500Z
DTEND;VALUE=DATE-TIME:20260424T092500Z
UID:170459796933
DESCRIPTION:296 / アクア パウ・パトロール！サンゴのたに
 をまもれ！／ジャンプジャンプ スマイリー！ / 
LOCATION:テレビ東京
END:VEVENT
END:VCALENDAR
