BEGIN:VCALENDAR
VERSION:2.0
PRODID:-//chikkutakku.com//RDFCal 1.0//EN
X-WR-CALDESC:GoogleカレンダーやiCalendar形式情報を共有シェ
 アしましょう。近所のイベントから全国のイベントま
 で今日のイベント検索やスケジュールを決めるならち
 っくたっく
X-WR-CALNAME:ちっくたっく
X-WR-TIMEZONE:UTC
BEGIN:VEVENT
SUMMARY:Laphroaigs (Creedence Clearwater Rivival Cover) & EARLY (Early Reb
 ecca Respect) LIVE
DTSTART;VALUE=DATE:20260505
DTEND;VALUE=DATE:20260506
UID:170656962341
DESCRIPTION:OPEN 18:30  START 19:00  CHARGE 1500円
LOCATION:
END:VEVENT
END:VCALENDAR
