BEGIN:VCALENDAR
VERSION:2.0
PRODID:-//chikkutakku.com//RDFCal 1.0//EN
X-WR-CALDESC:GoogleカレンダーやiCalendar形式情報を共有シェ
 アしましょう。近所のイベントから全国のイベントま
 で今日のイベント検索やスケジュールを決めるならち
 っくたっく
X-WR-CALNAME:ちっくたっく
X-WR-TIMEZONE:UTC
BEGIN:VEVENT
SUMMARY:青：総務広報局会議
DTSTART;VALUE=DATE-TIME:20260511T100000Z
DTEND;VALUE=DATE-TIME:20260511T120000Z
UID:171363464186
DESCRIPTION:青：総務広報局会議
LOCATION:宮崎焼肉 牛蔵新館 アラタ〜ARATA〜\, 日本、〒880-
 0001 宮崎県宮崎市橘通西３丁目１−１７ パティオ橘2 2
 階
END:VEVENT
END:VCALENDAR
