BEGIN:VCALENDAR
VERSION:2.0
PRODID:-//chikkutakku.com//RDFCal 1.0//EN
X-WR-CALDESC:GoogleカレンダーやiCalendar形式情報を共有シェ
 アしましょう。近所のイベントから全国のイベントま
 で今日のイベント検索やスケジュールを決めるならち
 っくたっく
X-WR-CALNAME:ちっくたっく
X-WR-TIMEZONE:UTC
BEGIN:VEVENT
SUMMARY:あの日の恋（×3）が終わってくれない！3 想い出
 の美少女たちと再会したら、恋のレースが始まりまし
 た
DTSTART;VALUE=DATE:20260519
DTEND;VALUE=DATE:20260520
UID:172152655761
DESCRIPTION:2026-05-20あの日の恋（×3）が終わってくれない
 ！3 想い出の美少女たちと再会したら、恋のレースが始
 まりました柚本悠斗/かがちさくオーバーラップ
LOCATION:
END:VEVENT
END:VCALENDAR
