BEGIN:VCALENDAR
VERSION:2.0
PRODID:-//chikkutakku.com//RDFCal 1.0//EN
X-WR-CALDESC:GoogleカレンダーやiCalendar形式情報を共有シェ
 アしましょう。近所のイベントから全国のイベントま
 で今日のイベント検索やスケジュールを決めるならち
 っくたっく
X-WR-CALNAME:ちっくたっく
X-WR-TIMEZONE:UTC
BEGIN:VEVENT
SUMMARY:U14、TRM
DTSTART;VALUE=DATE:20260502
DTEND;VALUE=DATE:20260503
UID:173788820259
DESCRIPTION:9時 vs ゼッセル（25分×8）\n\n※参加費2\,000円or8
 00円（希望者送迎、定員28名）\n\n※担当\n鷲塚コーチ
LOCATION:いきいきパークみさき\, 日本、〒599-0312 大阪府
 泉南郡岬町多奈川東畑
END:VEVENT
END:VCALENDAR
